Package: xmapbridge Version: 1.65.0 Command: /Library/Frameworks/R.framework/Resources/bin/R CMD check --install=check:xmapbridge.install-out.txt --library=/Library/Frameworks/R.framework/Resources/library --no-vignettes --timings xmapbridge_1.65.0.tar.gz StartedAt: 2025-02-20 22:02:56 -0500 (Thu, 20 Feb 2025) EndedAt: 2025-02-20 22:03:09 -0500 (Thu, 20 Feb 2025) EllapsedTime: 13.2 seconds RetCode: 0 Status: OK CheckDir: xmapbridge.Rcheck Warnings: 0