Package: xenLite Version: 1.1.0 Command: rm -rf xenLite.buildbin-libdir && mkdir xenLite.buildbin-libdir && E:\biocbuild\bbs-3.21-bioc\R\bin\R.exe CMD INSTALL --build --library=xenLite.buildbin-libdir xenLite_1.1.0.tar.gz StartedAt: 2025-02-20 09:01:48 -0500 (Thu, 20 Feb 2025) EndedAt: 2025-02-20 09:02:48 -0500 (Thu, 20 Feb 2025) EllapsedTime: 59.6 seconds RetCode: 0 Status: OK PackageFile: xenLite_1.1.0.zip PackageFileSize: 2.312 MiB