Package: xcore Version: 1.11.0 Command: /Library/Frameworks/R.framework/Resources/bin/R CMD check --install=check:xcore.install-out.txt --library=/Library/Frameworks/R.framework/Resources/library --no-vignettes --timings xcore_1.11.0.tar.gz StartedAt: 2025-02-19 22:05:06 -0500 (Wed, 19 Feb 2025) EndedAt: 2025-02-19 22:08:34 -0500 (Wed, 19 Feb 2025) EllapsedTime: 208.1 seconds RetCode: 0 Status: OK CheckDir: xcore.Rcheck Warnings: 0