Package: xcms Version: 4.5.3 Command: E:\biocbuild\bbs-3.21-bioc\R\bin\R.exe CMD INSTALL xcms StartedAt: 2025-02-17 16:48:39 -0500 (Mon, 17 Feb 2025) EndedAt: 2025-02-17 16:52:46 -0500 (Mon, 17 Feb 2025) EllapsedTime: 246.7 seconds RetCode: 0 Status: OK