Package: xcms Version: 4.5.3 Command: rm -rf xcms.buildbin-libdir && mkdir xcms.buildbin-libdir && E:\biocbuild\bbs-3.21-bioc\R\bin\R.exe CMD INSTALL --build --library=xcms.buildbin-libdir xcms_4.5.3.tar.gz StartedAt: 2025-02-18 08:33:01 -0500 (Tue, 18 Feb 2025) EndedAt: 2025-02-18 08:35:41 -0500 (Tue, 18 Feb 2025) EllapsedTime: 159.5 seconds RetCode: 0 Status: OK PackageFile: xcms_4.5.3.zip PackageFileSize: 7.55 MiB