Package: xcms Version: 4.5.3 Command: /home/biocbuild/bbs-3.21-bioc/R/bin/R CMD INSTALL xcms StartedAt: 2025-02-17 15:35:50 -0500 (Mon, 17 Feb 2025) EndedAt: 2025-02-17 15:37:23 -0500 (Mon, 17 Feb 2025) EllapsedTime: 93.3 seconds RetCode: 0 Status: OK