Package: xcms Version: 4.5.3 Command: /home/biocbuild/bbs-3.21-bioc/R/bin/R CMD check --install=check:xcms.install-out.txt --library=/home/biocbuild/bbs-3.21-bioc/R/site-library --timings xcms_4.5.3.tar.gz StartedAt: 2025-02-18 03:21:28 -0500 (Tue, 18 Feb 2025) EndedAt: 2025-02-18 03:45:14 -0500 (Tue, 18 Feb 2025) EllapsedTime: 1426.5 seconds RetCode: 0 Status: OK CheckDir: xcms.Rcheck Warnings: 0