Package: xcms Version: 4.5.3 Command: rm -rf xcms.buildbin-libdir && mkdir xcms.buildbin-libdir && /Users/biocbuild/BBS/utils/build-universal.sh xcms_4.5.3.tar.gz /Library/Frameworks/R.framework/Resources/bin/R xcms.buildbin-libdir StartedAt: 2025-02-19 22:42:46 -0500 (Wed, 19 Feb 2025) EndedAt: 2025-02-19 22:43:24 -0500 (Wed, 19 Feb 2025) EllapsedTime: 37.4 seconds RetCode: 0 Status: OK PackageFile: xcms_4.5.3.tgz PackageFileSize: 12.19 MiB