Package: xCell2 Version: 0.99.108 Command: /home/biocbuild/bbs-3.21-bioc/R/bin/R CMD check --install=check:xCell2.install-out.txt --library=/home/biocbuild/bbs-3.21-bioc/R/site-library --timings xCell2_0.99.108.tar.gz StartedAt: 2025-02-21 02:53:54 -0500 (Fri, 21 Feb 2025) EndedAt: 2025-02-21 03:00:10 -0500 (Fri, 21 Feb 2025) EllapsedTime: 376.5 seconds RetCode: 0 Status: OK CheckDir: xCell2.Rcheck Warnings: 0