Package: wppi Version: 1.15.0 Command: /home/biocbuild/bbs-3.21-bioc/R/bin/R CMD INSTALL wppi StartedAt: 2025-02-17 15:09:16 -0500 (Mon, 17 Feb 2025) EndedAt: 2025-02-17 15:09:29 -0500 (Mon, 17 Feb 2025) EllapsedTime: 12.9 seconds RetCode: 0 Status: OK