Package: wppi Version: 1.15.0 Command: /home/biocbuild/bbs-3.21-bioc/R/bin/R CMD build --keep-empty-dirs --no-resave-data wppi StartedAt: 2025-02-17 19:38:20 -0500 (Mon, 17 Feb 2025) EndedAt: 2025-02-17 19:39:49 -0500 (Mon, 17 Feb 2025) EllapsedTime: 89.1 seconds RetCode: 0 Status: OK PackageFile: wppi_1.15.0.tar.gz PackageFileSize: 646.8 KiB