Package: wppi Version: 1.15.0 Command: /Library/Frameworks/R.framework/Resources/bin/R CMD INSTALL wppi StartedAt: 2025-02-19 15:27:20 -0500 (Wed, 19 Feb 2025) EndedAt: 2025-02-19 15:27:40 -0500 (Wed, 19 Feb 2025) EllapsedTime: 20.0 seconds RetCode: 0 Status: OK