Package: wppi Version: 1.15.0 Command: /home/biocbuild/R/R/bin/R CMD check --install=check:wppi.install-out.txt --library=/home/biocbuild/R/R/site-library --no-vignettes --timings wppi_1.15.0.tar.gz StartedAt: 2025-01-22 12:33:22 -0000 (Wed, 22 Jan 2025) EndedAt: 2025-01-22 12:44:40 -0000 (Wed, 22 Jan 2025) EllapsedTime: 678.5 seconds RetCode: 1 Status: ERROR CheckDir: wppi.Rcheck Warnings: NA