Package: wppi Version: 1.15.0 Command: /Library/Frameworks/R.framework/Resources/bin/R CMD check --install=check:wppi.install-out.txt --library=/Library/Frameworks/R.framework/Resources/library --no-vignettes --timings wppi_1.15.0.tar.gz StartedAt: 2025-02-17 22:00:10 -0500 (Mon, 17 Feb 2025) EndedAt: 2025-02-17 22:02:46 -0500 (Mon, 17 Feb 2025) EllapsedTime: 155.8 seconds RetCode: 0 Status: OK CheckDir: wppi.Rcheck Warnings: 0