############################################################################## ############################################################################## ### ### Running command: ### ### /Library/Frameworks/R.framework/Resources/bin/R CMD check --install=check:wppi.install-out.txt --library=/Library/Frameworks/R.framework/Resources/library --no-vignettes --timings wppi_1.15.0.tar.gz ### ############################################################################## ############################################################################## * using log directory ‘/Users/biocbuild/bbs-3.21-bioc/meat/wppi.Rcheck’ * using R Under development (unstable) (2025-01-20 r87609) * using platform: aarch64-apple-darwin20 * R was compiled by Apple clang version 14.0.0 (clang-1400.0.29.202) GNU Fortran (GCC) 14.2.0 * running under: macOS Ventura 13.7.1 * using session charset: UTF-8 * using option ‘--no-vignettes’ * checking for file ‘wppi/DESCRIPTION’ ... OK * checking extension type ... Package * this is package ‘wppi’ version ‘1.15.0’ * package encoding: UTF-8 * checking package namespace information ... OK * checking package dependencies ... OK * checking if this is a source package ... OK * checking if there is a namespace ... OK * checking for hidden files and directories ... OK * checking for portable file names ... OK * checking for sufficient/correct file permissions ... OK * checking whether package ‘wppi’ can be installed ... OK * checking installed package size ... OK * checking package directory ... OK * checking ‘build’ directory ... OK * checking DESCRIPTION meta-information ... NOTE License stub is invalid DCF. * checking top-level files ... OK * checking for left-over files ... OK * checking index information ... OK * checking package subdirectories ... OK * checking code files for non-ASCII characters ... OK * checking R files for syntax errors ... OK * checking whether the package can be loaded ... OK * checking whether the package can be loaded with stated dependencies ... OK * checking whether the package can be unloaded cleanly ... OK * checking whether the namespace can be loaded with stated dependencies ... OK * checking whether the namespace can be unloaded cleanly ... OK * checking whether startup messages can be suppressed ... NOTE [2025-02-17 22:00:26] [TRACE] [OmnipathR] Reading JSON from `/Users/biocbuild/Library/Caches/OmnipathR/cache.json` (encoding: UTF-8). [2025-02-17 22:00:26] [TRACE] [OmnipathR] JSON validation successful: TRUE [2025-02-17 22:00:26] [INFO] [OmnipathR] Initialized cache: `/Users/biocbuild/Library/Caches/OmnipathR`. [2025-02-17 22:00:26] [INFO] [OmnipathR] Package `OmnipathR` packaged: NA [2025-02-17 22:00:26] [INFO] [OmnipathR] Package `OmnipathR` date/publication: 2025-02-17 [2025-02-17 22:00:26] [INFO] [OmnipathR] Package `OmnipathR` built: R 4.5.0; ; 2025-02-17 20:16:54 UTC; unix [2025-02-17 22:00:26] [INFO] [OmnipathR] Package `OmnipathR` version: 3.15.9 [2025-02-17 22:00:26] [INFO] [OmnipathR] Package `OmnipathR` repository: Bioconductor 3.21 [2025-02-17 22:00:26] [INFO] [OmnipathR] Session info: [version=R Under development (unstable) (2025-01-20 r87609); os=macOS Ventura 13.7.1; system=aarch64, darwin20; ui=X11; language=(EN); collate=C; ctype=en_US.UTF-8; tz=America/New_York; date=2025-02-17; pandoc=3.1.12.3 @ /opt/homebrew/bin/ (via rmarkdown); quarto=1.4.552 @ /usr/local/bin/quarto] [2025-02-17 22:00:26] [INFO] [OmnipathR] External libraries: [cairo=1.17.6; cairoFT=; pango=1.50.14; png=1.6.44; jpeg=9.5; tiff=LIBTIFF, Version 4.5.0; tcl=8.6.13; curl=8.7.1; zlib=1.2.11; bzlib=1.0.8, 13-Jul-2019; xz=5.6.3; deflate=1.23; PCRE=10.42 2022-12-11; ICU=70.2; TRE=TRE 0.8.0 R_fixes (BSD); iconv=Apple or GNU libiconv 1.11 /Library/Frameworks/R.framework/Versions/4.5-arm64/Resources/lib/libR.dylib; readline=5.2; BLAS=/Library/Frameworks/R.framework/Versions/4.5-arm64/Resources/lib/libRblas.0.dylib; lapack=/Library/Frameworks/R.framework/Versions/4.5-arm64/Resources/lib/libRlapack.dylib; lapack_version=3.12.0] [2025-02-17 22:00:26] [INFO] [OmnipathR] CURL: version: 8.11.1; headers: 8.11.1; ssl_version: OpenSSL/3.3.2 (SecureTransport); libz_version: 1.2.11; libssh_version: NA; libidn_version: NA; host: aarch64-apple-darwin23.6.0; protocols: dict, file, ftp, ftps, gopher, gophers, http, https, imap, imaps, ldap, ldaps, mqtt, pop3, pop3s, rtsp, smb, smbs, smtp, smtps, telnet, tftp, ws, wss; ipv6: TRUE; http2: TRUE; idn: FALSE; url_parser: TRUE [2025-02-17 22:00:26] [TRACE] [OmnipathR] Running on a build server, wiping cache. [2025-02-17 22:00:26] [TRACE] [OmnipathR] Cache is at `/Users/biocbuild/Library/Caches/OmnipathR`. [2025-02-17 22:00:26] [TRACE] [OmnipathR] Contains 1 files. [2025-02-17 22:00:26] [TRACE] [OmnipathR] Cache is locked: FALSE. [2025-02-17 22:00:26] [TRACE] [OmnipathR] Reading JSON from `/Users/biocbuild/Library/Caches/OmnipathR/cache.json` (encoding: UTF-8). [2025-02-17 22:00:26] [TRACE] [OmnipathR] JSON validation successful: TRUE [2025-02-17 22:00:26] [SUCCESS] [OmnipathR] Removing all cache contents from `/Users/biocbuild/Library/Caches/OmnipathR`. [2025-02-17 22:00:26] [TRACE] [OmnipathR] Pandoc version: `3.1.12.3`. [2025-02-17 22:00:26] [TRACE] [OmnipathR] Reading JSON from `/Library/Frameworks/R.framework/Versions/4.5-arm64/Resources/library/OmnipathR/db/db_def.json` (encoding: UTF-8). [2025-02-17 22:00:26] [TRACE] [OmnipathR] JSON validation successful: TRUE [2025-02-17 22:00:26] [TRACE] [OmnipathR] Reading JSON from `/Library/Frameworks/R.framework/Versions/4.5-arm64/Resources/library/OmnipathR/internal/magic_bytes.json` (encoding: UTF-8). [2025-02-17 22:00:26] [TRACE] [OmnipathR] JSON validation successful: TRUE [2025-02-17 22:00:26] [TRACE] [OmnipathR] Reading JSON from `/Library/Frameworks/R.framework/Versions/4.5-arm64/Resources/library/OmnipathR/internal/urls.json` (encoding: UTF-8). [2025-02-17 22:00:26] [TRACE] [OmnipathR] JSON validation successful: TRUE [2025-02-17 22:00:26] [TRACE] [OmnipathR] Reading JSON from `/Library/Frameworks/R.framework/Versions/4.5-arm64/Resources/library/OmnipathR/internal/id_types.json` (encoding: UTF-8). [2025-02-17 22:00:26] [TRACE] [OmnipathR] JSON validation successful: TRUE [2025-02-17 22:00:26] [TRACE] [OmnipathR] Cache locked: FALSE It looks like this package (or a package it requires) has a startup message which cannot be suppressed: see ?packageStartupMessage. * checking dependencies in R code ... OK * checking S3 generic/method consistency ... OK * checking replacement functions ... OK * checking foreign function calls ... OK * checking R code for possible problems ... NOTE [2025-02-17 22:00:34] [TRACE] [OmnipathR] Reading JSON from `/Users/biocbuild/Library/Caches/OmnipathR/cache.json` (encoding: UTF-8). [2025-02-17 22:00:34] [TRACE] [OmnipathR] JSON validation successful: TRUE [2025-02-17 22:00:34] [INFO] [OmnipathR] Initialized cache: `/Users/biocbuild/Library/Caches/OmnipathR`. [2025-02-17 22:00:34] [INFO] [OmnipathR] Package `OmnipathR` packaged: NA [2025-02-17 22:00:34] [INFO] [OmnipathR] Package `OmnipathR` date/publication: 2025-02-17 [2025-02-17 22:00:34] [INFO] [OmnipathR] Package `OmnipathR` built: R 4.5.0; ; 2025-02-17 20:16:54 UTC; unix [2025-02-17 22:00:34] [INFO] [OmnipathR] Package `OmnipathR` version: 3.15.9 [2025-02-17 22:00:34] [INFO] [OmnipathR] Package `OmnipathR` repository: Bioconductor 3.21 [2025-02-17 22:00:35] [INFO] [OmnipathR] Session info: [version=R Under development (unstable) (2025-01-20 r87609); os=macOS Ventura 13.7.1; system=aarch64, darwin20; ui=X11; language=(EN); collate=C; ctype=en_US.UTF-8; tz=America/New_York; date=2025-02-17; pandoc=3.1.12.3 @ /opt/homebrew/bin/ (via rmarkdown); quarto=1.4.552 @ /usr/local/bin/quarto] [2025-02-17 22:00:35] [INFO] [OmnipathR] External libraries: [cairo=1.17.6; cairoFT=; pango=1.50.14; png=1.6.44; jpeg=9.5; tiff=LIBTIFF, Version 4.5.0; tcl=8.6.13; curl=8.7.1; zlib=1.2.11; bzlib=1.0.8, 13-Jul-2019; xz=5.6.3; deflate=1.23; PCRE=10.42 2022-12-11; ICU=70.2; TRE=TRE 0.8.0 R_fixes (BSD); iconv=Apple or GNU libiconv 1.11 /Library/Frameworks/R.framework/Versions/4.5-arm64/Resources/lib/libR.dylib; readline=5.2; BLAS=/Library/Frameworks/R.framework/Versions/4.5-arm64/Resources/lib/libRblas.0.dylib; lapack=/Library/Frameworks/R.framework/Versions/4.5-arm64/Resources/lib/libRlapack.dylib; lapack_version=3.12.0] [2025-02-17 22:00:35] [INFO] [OmnipathR] CURL: version: 8.11.1; headers: 8.11.1; ssl_version: OpenSSL/3.3.2 (SecureTransport); libz_version: 1.2.11; libssh_version: NA; libidn_version: NA; host: aarch64-apple-darwin23.6.0; protocols: dict, file, ftp, ftps, gopher, gophers, http, https, imap, imaps, ldap, ldaps, mqtt, pop3, pop3s, rtsp, smb, smbs, smtp, smtps, telnet, tftp, ws, wss; ipv6: TRUE; http2: TRUE; idn: FALSE; url_parser: TRUE [2025-02-17 22:00:35] [TRACE] [OmnipathR] Running on a build server, wiping cache. [2025-02-17 22:00:35] [TRACE] [OmnipathR] Cache is at `/Users/biocbuild/Library/Caches/OmnipathR`. [2025-02-17 22:00:35] [TRACE] [OmnipathR] Contains 1 files. [2025-02-17 22:00:35] [TRACE] [OmnipathR] Cache is locked: FALSE. [2025-02-17 22:00:35] [TRACE] [OmnipathR] Reading JSON from `/Users/biocbuild/Library/Caches/OmnipathR/cache.json` (encoding: UTF-8). [2025-02-17 22:00:35] [TRACE] [OmnipathR] JSON validation successful: TRUE [2025-02-17 22:00:35] [SUCCESS] [OmnipathR] Removing all cache contents from `/Users/biocbuild/Library/Caches/OmnipathR`. [2025-02-17 22:00:35] [TRACE] [OmnipathR] Pandoc version: `3.1.12.3`. [2025-02-17 22:00:35] [TRACE] [OmnipathR] Reading JSON from `/Library/Frameworks/R.framework/Versions/4.5-arm64/Resources/library/OmnipathR/db/db_def.json` (encoding: UTF-8). [2025-02-17 22:00:35] [TRACE] [OmnipathR] JSON validation successful: TRUE [2025-02-17 22:00:35] [TRACE] [OmnipathR] Reading JSON from `/Library/Frameworks/R.framework/Versions/4.5-arm64/Resources/library/OmnipathR/internal/magic_bytes.json` (encoding: UTF-8). [2025-02-17 22:00:35] [TRACE] [OmnipathR] JSON validation successful: TRUE [2025-02-17 22:00:35] [TRACE] [OmnipathR] Reading JSON from `/Library/Frameworks/R.framework/Versions/4.5-arm64/Resources/library/OmnipathR/internal/urls.json` (encoding: UTF-8). [2025-02-17 22:00:35] [TRACE] [OmnipathR] JSON validation successful: TRUE [2025-02-17 22:00:35] [TRACE] [OmnipathR] Reading JSON from `/Library/Frameworks/R.framework/Versions/4.5-arm64/Resources/library/OmnipathR/internal/id_types.json` (encoding: UTF-8). [2025-02-17 22:00:35] [TRACE] [OmnipathR] JSON validation successful: TRUE [2025-02-17 22:00:35] [TRACE] [OmnipathR] Cache locked: FALSE * checking Rd files ... OK * checking Rd metadata ... OK * checking Rd cross-references ... OK * checking for missing documentation entries ... OK * checking for code/documentation mismatches ... OK * checking Rd \usage sections ... OK * checking Rd contents ... OK * checking for unstated dependencies in examples ... OK * checking files in ‘vignettes’ ... OK * checking examples ... OK Examples with CPU (user + system) or elapsed time > 5s user system elapsed wppi 16.238 3.086 24.436 score_candidate_genes_from_PPI 8.862 1.809 14.615 prioritization_genes 8.690 1.704 14.562 random_walk 8.149 1.898 11.400 weighted_adj 8.528 1.275 12.823 common_neighbors 4.738 0.500 11.460 count_genes 4.883 0.352 6.402 * checking for unstated dependencies in vignettes ... OK * checking package vignettes ... OK * checking running R code from vignettes ... SKIPPED * checking re-building of vignette outputs ... SKIPPED * checking PDF version of manual ... OK * DONE Status: 3 NOTEs See ‘/Users/biocbuild/bbs-3.21-bioc/meat/wppi.Rcheck/00check.log’ for details.