Package: wppi Version: 1.15.0 Command: /Library/Frameworks/R.framework/Resources/bin/R CMD build --keep-empty-dirs --no-resave-data wppi StartedAt: 2025-02-17 17:52:57 -0500 (Mon, 17 Feb 2025) EndedAt: 2025-02-17 17:53:55 -0500 (Mon, 17 Feb 2025) EllapsedTime: 57.7 seconds RetCode: 0 Status: OK PackageFile: wppi_1.15.0.tar.gz PackageFileSize: 647 KiB