Package: wppi Version: 1.15.0 Command: rm -rf wppi.buildbin-libdir && mkdir wppi.buildbin-libdir && /Users/biocbuild/BBS/utils/build-universal.sh wppi_1.15.0.tar.gz /Library/Frameworks/R.framework/Resources/bin/R wppi.buildbin-libdir StartedAt: 2025-02-17 22:38:04 -0500 (Mon, 17 Feb 2025) EndedAt: 2025-02-17 22:38:12 -0500 (Mon, 17 Feb 2025) EllapsedTime: 8.2 seconds RetCode: 0 Status: OK PackageFile: wppi_1.15.0.tgz PackageFileSize: 299 KiB