Package: wpm Version: 1.17.0 Command: /Library/Frameworks/R.framework/Resources/bin/R CMD build --keep-empty-dirs --no-resave-data wpm StartedAt: 2025-02-20 17:54:16 -0500 (Thu, 20 Feb 2025) EndedAt: 2025-02-20 17:54:25 -0500 (Thu, 20 Feb 2025) EllapsedTime: 9.1 seconds RetCode: 0 Status: OK PackageFile: wpm_1.17.0.tar.gz PackageFileSize: 2.428 MiB