Package: wpm Version: 1.17.0 Command: rm -rf wpm.buildbin-libdir && mkdir wpm.buildbin-libdir && /Users/biocbuild/BBS/utils/build-universal.sh wpm_1.17.0.tar.gz /Library/Frameworks/R.framework/Resources/bin/R wpm.buildbin-libdir StartedAt: 2025-02-20 22:39:34 -0500 (Thu, 20 Feb 2025) EndedAt: 2025-02-20 22:39:36 -0500 (Thu, 20 Feb 2025) EllapsedTime: 2.1 seconds RetCode: 0 Status: OK PackageFile: wpm_1.17.0.tgz PackageFileSize: 1.944 MiB