Package: wiggleplotr Version: 1.31.0 Command: rm -rf wiggleplotr.buildbin-libdir && mkdir wiggleplotr.buildbin-libdir && E:\biocbuild\bbs-3.21-bioc\R\bin\R.exe CMD INSTALL --build --library=wiggleplotr.buildbin-libdir wiggleplotr_1.31.0.tar.gz StartedAt: 2025-02-20 09:01:21 -0500 (Thu, 20 Feb 2025) EndedAt: 2025-02-20 09:01:37 -0500 (Thu, 20 Feb 2025) EllapsedTime: 15.5 seconds RetCode: 0 Status: OK PackageFile: wiggleplotr_1.31.0.zip PackageFileSize: 224.8 KiB