Package: wiggleplotr Version: 1.32.0 Command: /home/biocbuild/bbs-3.21-bioc/R/bin/R CMD INSTALL wiggleplotr StartedAt: 2025-10-15 15:26:04 -0400 (Wed, 15 Oct 2025) EndedAt: 2025-10-15 15:26:09 -0400 (Wed, 15 Oct 2025) EllapsedTime: 5.1 seconds RetCode: 0 Status: OK