Package: wiggleplotr Version: 1.32.0 Command: /home/biocbuild/bbs-3.21-bioc/R/bin/R CMD build --keep-empty-dirs --no-resave-data wiggleplotr StartedAt: 2025-10-15 20:32:09 -0400 (Wed, 15 Oct 2025) EndedAt: 2025-10-15 20:32:45 -0400 (Wed, 15 Oct 2025) EllapsedTime: 36.1 seconds RetCode: 1 Status: ERROR PackageFile: None PackageFileSize: NA