Package: wiggleplotr Version: 1.31.0 Command: /Library/Frameworks/R.framework/Resources/bin/R CMD INSTALL wiggleplotr StartedAt: 2025-02-20 15:17:00 -0500 (Thu, 20 Feb 2025) EndedAt: 2025-02-20 15:17:06 -0500 (Thu, 20 Feb 2025) EllapsedTime: 5.9 seconds RetCode: 0 Status: OK