Package: wiggleplotr Version: 1.31.0 Command: /Library/Frameworks/R.framework/Resources/bin/R CMD build --keep-empty-dirs --no-resave-data wiggleplotr StartedAt: 2025-02-19 18:38:06 -0500 (Wed, 19 Feb 2025) EndedAt: 2025-02-19 18:38:52 -0500 (Wed, 19 Feb 2025) EllapsedTime: 45.8 seconds RetCode: 0 Status: OK PackageFile: wiggleplotr_1.31.0.tar.gz PackageFileSize: 405.6 KiB