Package: wiggleplotr Version: 1.31.0 Command: /home/biocbuild/R/R/bin/R CMD INSTALL wiggleplotr StartedAt: 2025-01-29 19:50:13 -0000 (Wed, 29 Jan 2025) EndedAt: 2025-01-29 19:50:18 -0000 (Wed, 29 Jan 2025) EllapsedTime: 5.5 seconds RetCode: 0 Status: OK