Package: wiggleplotr Version: 1.31.0 Command: /home/biocbuild/R/R/bin/R CMD check --install=check:wiggleplotr.install-out.txt --library=/home/biocbuild/R/R/site-library --no-vignettes --timings wiggleplotr_1.31.0.tar.gz StartedAt: 2025-01-18 13:04:33 -0000 (Sat, 18 Jan 2025) EndedAt: 2025-01-18 13:06:00 -0000 (Sat, 18 Jan 2025) EllapsedTime: 87.1 seconds RetCode: 0 Status: OK CheckDir: wiggleplotr.Rcheck Warnings: 0