Package: wiggleplotr Version: 1.31.0 Command: /home/biocbuild/R/R/bin/R CMD build --keep-empty-dirs --no-resave-data wiggleplotr StartedAt: 2025-01-28 03:11:49 -0000 (Tue, 28 Jan 2025) EndedAt: 2025-01-28 03:12:32 -0000 (Tue, 28 Jan 2025) EllapsedTime: 43.0 seconds RetCode: 1 Status: ERROR PackageFile: None PackageFileSize: NA