Package: wiggleplotr Version: 1.32.0 Command: /Library/Frameworks/R.framework/Resources/bin/R CMD INSTALL wiggleplotr StartedAt: 2025-10-13 16:40:00 -0400 (Mon, 13 Oct 2025) EndedAt: 2025-10-13 16:40:05 -0400 (Mon, 13 Oct 2025) EllapsedTime: 5.7 seconds RetCode: 0 Status: OK