Package: wiggleplotr Version: 1.32.0 Command: /Library/Frameworks/R.framework/Resources/bin/R CMD build --keep-empty-dirs --no-resave-data wiggleplotr StartedAt: 2025-10-14 11:58:15 -0400 (Tue, 14 Oct 2025) EndedAt: 2025-10-14 11:59:01 -0400 (Tue, 14 Oct 2025) EllapsedTime: 45.2 seconds RetCode: 1 Status: ERROR PackageFile: None PackageFileSize: NA