Package: widgetTools Version: 1.85.0 Command: rm -rf widgetTools.buildbin-libdir && mkdir widgetTools.buildbin-libdir && E:\biocbuild\bbs-3.21-bioc\R\bin\R.exe CMD INSTALL --build --library=widgetTools.buildbin-libdir widgetTools_1.85.0.tar.gz StartedAt: 2025-02-21 09:21:40 -0500 (Fri, 21 Feb 2025) EndedAt: 2025-02-21 09:22:38 -0500 (Fri, 21 Feb 2025) EllapsedTime: 58.5 seconds RetCode: 0 Status: OK PackageFile: widgetTools_1.85.0.zip PackageFileSize: 348.8 KiB