Package: widgetTools Version: 1.85.0 Command: /home/biocbuild/bbs-3.21-bioc/R/bin/R CMD INSTALL widgetTools StartedAt: 2025-02-20 15:06:35 -0500 (Thu, 20 Feb 2025) EndedAt: 2025-02-20 15:06:40 -0500 (Thu, 20 Feb 2025) EllapsedTime: 5.3 seconds RetCode: 0 Status: OK