Package: widgetTools Version: 1.85.0 Command: /Library/Frameworks/R.framework/Resources/bin/R CMD build --keep-empty-dirs --no-resave-data widgetTools StartedAt: 2025-02-20 18:37:52 -0500 (Thu, 20 Feb 2025) EndedAt: 2025-02-20 18:38:04 -0500 (Thu, 20 Feb 2025) EllapsedTime: 12.5 seconds RetCode: 0 Status: OK PackageFile: widgetTools_1.85.0.tar.gz PackageFileSize: 227 KiB