Package: weitrix Version: 1.19.0 Command: E:\biocbuild\bbs-3.21-bioc\R\bin\R.exe CMD check --no-multiarch --install=check:weitrix.install-out.txt --library=E:\biocbuild\bbs-3.21-bioc\R\library --no-vignettes --timings weitrix_1.19.0.tar.gz StartedAt: 2025-02-21 06:55:08 -0500 (Fri, 21 Feb 2025) EndedAt: 2025-02-21 07:07:15 -0500 (Fri, 21 Feb 2025) EllapsedTime: 726.6 seconds RetCode: 0 Status: OK CheckDir: weitrix.Rcheck Warnings: 0