Package: weitrix Version: 1.19.0 Command: chmod a+r weitrix -R && E:\biocbuild\bbs-3.21-bioc\R\bin\R.exe CMD build --keep-empty-dirs --no-resave-data weitrix StartedAt: 2025-02-20 22:28:51 -0500 (Thu, 20 Feb 2025) EndedAt: 2025-02-20 22:38:23 -0500 (Thu, 20 Feb 2025) EllapsedTime: 571.6 seconds RetCode: 0 Status: OK PackageFile: weitrix_1.19.0.tar.gz PackageFileSize: 5.31 MiB