Package: weitrix Version: 1.19.0 Command: /home/biocbuild/bbs-3.21-bioc/R/bin/R CMD build --keep-empty-dirs --no-resave-data weitrix StartedAt: 2025-02-20 19:44:43 -0500 (Thu, 20 Feb 2025) EndedAt: 2025-02-20 19:53:00 -0500 (Thu, 20 Feb 2025) EllapsedTime: 496.5 seconds RetCode: 0 Status: OK PackageFile: weitrix_1.19.0.tar.gz PackageFileSize: 9.483 MiB