Package: weitrix Version: 1.19.0 Command: /Library/Frameworks/R.framework/Resources/bin/R CMD INSTALL weitrix StartedAt: 2025-02-20 15:13:37 -0500 (Thu, 20 Feb 2025) EndedAt: 2025-02-20 15:14:14 -0500 (Thu, 20 Feb 2025) EllapsedTime: 37.0 seconds RetCode: 0 Status: OK