Package: weitrix Version: 1.19.0 Command: /Library/Frameworks/R.framework/Resources/bin/R CMD check --install=check:weitrix.install-out.txt --library=/Library/Frameworks/R.framework/Resources/library --no-vignettes --timings weitrix_1.19.0.tar.gz StartedAt: 2025-02-21 00:00:55 -0500 (Fri, 21 Feb 2025) EndedAt: 2025-02-21 00:05:38 -0500 (Fri, 21 Feb 2025) EllapsedTime: 283.1 seconds RetCode: 0 Status: OK CheckDir: weitrix.Rcheck Warnings: 0