Package: weaver Version: 1.73.0 Command: /Library/Frameworks/R.framework/Resources/bin/R CMD build --keep-empty-dirs --no-resave-data weaver StartedAt: 2025-02-19 18:37:49 -0500 (Wed, 19 Feb 2025) EndedAt: 2025-02-19 18:37:58 -0500 (Wed, 19 Feb 2025) EllapsedTime: 9.1 seconds RetCode: 0 Status: OK PackageFile: weaver_1.73.0.tar.gz PackageFileSize: 231.9 KiB