Package: weaver Version: 1.73.0 Command: rm -rf weaver.buildbin-libdir && mkdir weaver.buildbin-libdir && /Users/biocbuild/BBS/utils/build-universal.sh weaver_1.73.0.tar.gz /Library/Frameworks/R.framework/Resources/bin/R weaver.buildbin-libdir StartedAt: 2025-02-19 22:42:39 -0500 (Wed, 19 Feb 2025) EndedAt: 2025-02-19 22:42:41 -0500 (Wed, 19 Feb 2025) EllapsedTime: 2.0 seconds RetCode: 0 Status: OK PackageFile: weaver_1.73.0.tgz PackageFileSize: 272.2 KiB