Package: wavClusteR Version: 2.41.0 Command: rm -rf wavClusteR.buildbin-libdir && mkdir wavClusteR.buildbin-libdir && E:\biocbuild\bbs-3.21-bioc\R\bin\R.exe CMD INSTALL --build --library=wavClusteR.buildbin-libdir wavClusteR_2.41.0.tar.gz StartedAt: 2025-02-19 08:39:02 -0500 (Wed, 19 Feb 2025) EndedAt: 2025-02-19 08:39:52 -0500 (Wed, 19 Feb 2025) EllapsedTime: 49.5 seconds RetCode: 0 Status: OK PackageFile: wavClusteR_2.41.0.zip PackageFileSize: 580.8 KiB