Package: wavClusteR Version: 2.41.0 Command: /Library/Frameworks/R.framework/Resources/bin/R CMD INSTALL wavClusteR StartedAt: 2025-02-18 15:15:56 -0500 (Tue, 18 Feb 2025) EndedAt: 2025-02-18 15:16:11 -0500 (Tue, 18 Feb 2025) EllapsedTime: 15.7 seconds RetCode: 0 Status: OK