Package: wavClusteR Version: 2.41.0 Command: /Library/Frameworks/R.framework/Resources/bin/R CMD build --keep-empty-dirs --no-resave-data wavClusteR StartedAt: 2025-02-18 17:57:00 -0500 (Tue, 18 Feb 2025) EndedAt: 2025-02-18 17:57:28 -0500 (Tue, 18 Feb 2025) EllapsedTime: 27.3 seconds RetCode: 0 Status: OK PackageFile: wavClusteR_2.41.0.tar.gz PackageFileSize: 790 KiB