Package: wateRmelon Version: 2.13.0 Command: E:\biocbuild\bbs-3.21-bioc\R\bin\R.exe CMD INSTALL wateRmelon StartedAt: 2025-02-20 16:57:27 -0500 (Thu, 20 Feb 2025) EndedAt: 2025-02-20 16:59:24 -0500 (Thu, 20 Feb 2025) EllapsedTime: 117.8 seconds RetCode: 0 Status: OK