Package: wateRmelon Version: 2.13.0 Command: /home/biocbuild/bbs-3.21-bioc/R/bin/R CMD INSTALL wateRmelon StartedAt: 2025-02-20 16:15:06 -0500 (Thu, 20 Feb 2025) EndedAt: 2025-02-20 16:15:58 -0500 (Thu, 20 Feb 2025) EllapsedTime: 52.4 seconds RetCode: 0 Status: OK