Package: wateRmelon Version: 2.13.0 Command: /Library/Frameworks/R.framework/Resources/bin/R CMD build --keep-empty-dirs --no-resave-data wateRmelon StartedAt: 2025-02-20 18:37:24 -0500 (Thu, 20 Feb 2025) EndedAt: 2025-02-20 18:39:02 -0500 (Thu, 20 Feb 2025) EllapsedTime: 98.1 seconds RetCode: 0 Status: OK PackageFile: wateRmelon_2.13.0.tar.gz PackageFileSize: 3.275 MiB