Package: wateRmelon Version: 2.13.0 Command: rm -rf wateRmelon.buildbin-libdir && mkdir wateRmelon.buildbin-libdir && /Users/biocbuild/BBS/utils/build-universal.sh wateRmelon_2.13.0.tar.gz /Library/Frameworks/R.framework/Resources/bin/R wateRmelon.buildbin-libdir StartedAt: 2025-02-21 00:59:12 -0500 (Fri, 21 Feb 2025) EndedAt: 2025-02-21 01:00:21 -0500 (Fri, 21 Feb 2025) EllapsedTime: 69.4 seconds RetCode: 0 Status: OK PackageFile: wateRmelon_2.13.0.tgz PackageFileSize: 3.686 MiB