Package: wateRmelon Version: 2.13.0 Command: rm -rf wateRmelon.buildbin-libdir && mkdir wateRmelon.buildbin-libdir && /Users/biocbuild/BBS/utils/build-universal.sh wateRmelon_2.13.0.tar.gz /Library/Frameworks/R.framework/Resources/bin/R wateRmelon.buildbin-libdir StartedAt: 2025-02-20 22:39:25 -0500 (Thu, 20 Feb 2025) EndedAt: 2025-02-20 22:39:50 -0500 (Thu, 20 Feb 2025) EllapsedTime: 25.5 seconds RetCode: 0 Status: OK PackageFile: wateRmelon_2.13.0.tgz PackageFileSize: 3.689 MiB