Package: waddR Version: 1.21.0 Command: chmod a+r waddR -R && E:\biocbuild\bbs-3.21-bioc\R\bin\R.exe CMD build --keep-empty-dirs --no-resave-data waddR StartedAt: 2025-02-20 22:27:38 -0500 (Thu, 20 Feb 2025) EndedAt: 2025-02-20 22:30:13 -0500 (Thu, 20 Feb 2025) EllapsedTime: 155.9 seconds RetCode: 1 Status: ERROR PackageFile: None PackageFileSize: NA