Package: waddR Version: 1.21.0 Command: rm -rf waddR.buildbin-libdir && mkdir waddR.buildbin-libdir && E:\biocbuild\bbs-3.21-bioc\R\bin\R.exe CMD INSTALL --build --library=waddR.buildbin-libdir waddR_1.21.0.tar.gz StartedAt: 2024-12-27 08:36:12 -0500 (Fri, 27 Dec 2024) EndedAt: 2024-12-27 08:37:03 -0500 (Fri, 27 Dec 2024) EllapsedTime: 50.9 seconds RetCode: 0 Status: OK PackageFile: waddR_1.21.0.zip PackageFileSize: 516.8 KiB