Package: waddR Version: 1.21.0 Command: /home/biocbuild/bbs-3.21-bioc/R/bin/R CMD INSTALL waddR StartedAt: 2025-02-20 15:30:47 -0500 (Thu, 20 Feb 2025) EndedAt: 2025-02-20 15:31:30 -0500 (Thu, 20 Feb 2025) EllapsedTime: 43.1 seconds RetCode: 0 Status: OK